BEGIN:VCALENDAR
VERSION:2.0
PRODID:spatie/icalendar-generator
DESCRIPTION:Events from Colvend Community Council
X-WR-CALDESC:Events from Colvend Community Council
REFRESH-INTERVAL;VALUE=DURATION:PT1440M
X-PUBLISHED-TTL:PT1440M
BEGIN:VTIMEZONE
TZID:Europe/London
BEGIN:STANDARD
DTSTART:20251026T020000Z
TZOFFSETFROM:+0100
TZOFFSETTO:+0000
END:STANDARD
BEGIN:DAYLIGHT
DTSTART:20260329T010000Z
TZOFFSETFROM:+0000
TZOFFSETTO:+0100
END:DAYLIGHT
BEGIN:STANDARD
DTSTART:20261025T020000Z
TZOFFSETFROM:+0100
TZOFFSETTO:+0000
END:STANDARD
END:VTIMEZONE
BEGIN:VTIMEZONE
TZID:UTC
BEGIN:STANDARD
DTSTART:20250725T055053Z
TZOFFSETFROM:+0000
TZOFFSETTO:+0000
END:STANDARD
END:VTIMEZONE
BEGIN:VEVENT
UID:47-14
DTSTAMP:20260421T055053Z
SUMMARY:Badminton Club
LOCATION:
ORGANIZER;CN=admin:MAILTO:secretary@colvendcommunity.co.uk
RRULE:FREQ=WEEKLY;UNTIL=20261216T000000Z
DTSTART;TZID=Europe/London:20260701T190000
DTEND;TZID=Europe/London:20260701T210000
X-ALT-DESC;FMTTYPE=TEXT/HTML:
CATEGORIES:Activities
URL;VALUE=URI:https://colvendcommunity.co.uk/mc-events/badminton-club/?mc_i
 d=47
METHOD:PUBLISH
END:VEVENT
END:VCALENDAR