BEGIN:VCALENDAR
VERSION:2.0
PRODID:spatie/icalendar-generator
DESCRIPTION:Events from Colvend Community Council
X-WR-CALDESC:Events from Colvend Community Council
REFRESH-INTERVAL;VALUE=DURATION:PT1440M
X-PUBLISHED-TTL:PT1440M
BEGIN:VTIMEZONE
TZID:Europe/London
BEGIN:STANDARD
DTSTART:20251026T020000Z
TZOFFSETFROM:+0100
TZOFFSETTO:+0000
END:STANDARD
BEGIN:DAYLIGHT
DTSTART:20260329T010000Z
TZOFFSETFROM:+0000
TZOFFSETTO:+0100
END:DAYLIGHT
BEGIN:STANDARD
DTSTART:20261025T020000Z
TZOFFSETFROM:+0100
TZOFFSETTO:+0000
END:STANDARD
END:VTIMEZONE
BEGIN:VTIMEZONE
TZID:UTC
BEGIN:STANDARD
DTSTART:20250724T115450Z
TZOFFSETFROM:+0000
TZOFFSETTO:+0000
END:STANDARD
END:VTIMEZONE
BEGIN:VEVENT
UID:24-11
DTSTAMP:20260420T115450Z
SUMMARY:Scottish Parliamentary Elections
LOCATION:
ORGANIZER;CN=admin:MAILTO:secretary@colvendcommunity.co.uk
DTSTART;TZID=Europe/London;VALUE=DATE:20260507
DTEND;TZID=Europe/London;VALUE=DATE:20260508
X-ALT-DESC;FMTTYPE=TEXT/HTML:
CATEGORIES:Public Event
URL;VALUE=URI:https://colvendcommunity.co.uk/mc-events/scottish-parliamenta
 ry-elections/
METHOD:PUBLISH
END:VEVENT
END:VCALENDAR